Package: rexposome Version: 1.31.0 Command: /Library/Frameworks/R.framework/Resources/bin/R CMD check --install=check:rexposome.install-out.txt --library=/Library/Frameworks/R.framework/Resources/library --no-vignettes --timings rexposome_1.31.0.tar.gz StartedAt: 2025-10-22 00:26:25 -0400 (Wed, 22 Oct 2025) EndedAt: 2025-10-22 00:29:44 -0400 (Wed, 22 Oct 2025) EllapsedTime: 198.8 seconds RetCode: 0 Status: WARNINGS CheckDir: rexposome.Rcheck Warnings: 5