Package: rexposome Version: 1.31.0 Command: /Library/Frameworks/R.framework/Resources/bin/R CMD build --keep-empty-dirs --no-resave-data rexposome StartedAt: 2025-10-16 19:28:12 -0400 (Thu, 16 Oct 2025) EndedAt: 2025-10-16 19:30:37 -0400 (Thu, 16 Oct 2025) EllapsedTime: 144.7 seconds RetCode: 0 Status: OK PackageFile: rexposome_1.31.0.tar.gz PackageFileSize: 8.628 MiB