Package: rexposome Version: 1.31.0 Command: rm -rf rexposome.buildbin-libdir && mkdir rexposome.buildbin-libdir && /Users/biocbuild/BBS/utils/build-universal.sh rexposome_1.31.0.tar.gz /Library/Frameworks/R.framework/Resources/bin/R rexposome.buildbin-libdir StartedAt: 2025-10-17 04:09:24 -0400 (Fri, 17 Oct 2025) EndedAt: 2025-10-17 04:10:02 -0400 (Fri, 17 Oct 2025) EllapsedTime: 38.6 seconds RetCode: 0 Status: OK PackageFile: rexposome_1.31.0.tgz PackageFileSize: 9.13 MiB