Package: rexposome Version: 1.31.0 Command: /Library/Frameworks/R.framework/Resources/bin/R CMD check --install=check:rexposome.install-out.txt --library=/Library/Frameworks/R.framework/Resources/library --no-vignettes --timings rexposome_1.31.0.tar.gz StartedAt: 2025-10-20 21:37:20 -0400 (Mon, 20 Oct 2025) EndedAt: 2025-10-20 21:38:23 -0400 (Mon, 20 Oct 2025) EllapsedTime: 62.7 seconds RetCode: 0 Status: WARNINGS CheckDir: rexposome.Rcheck Warnings: 5