Package: rexposome Version: 1.31.0 Command: /Library/Frameworks/R.framework/Resources/bin/R CMD build --keep-empty-dirs --no-resave-data rexposome StartedAt: 2025-10-19 17:27:37 -0400 (Sun, 19 Oct 2025) EndedAt: 2025-10-19 17:28:12 -0400 (Sun, 19 Oct 2025) EllapsedTime: 35.4 seconds RetCode: 0 Status: OK PackageFile: rexposome_1.31.0.tar.gz PackageFileSize: 8.629 MiB