Package: regutools Version: 1.21.0 Command: /home/biocbuild/R/R/bin/R CMD INSTALL regutools StartedAt: 2025-10-13 21:34:24 -0000 (Mon, 13 Oct 2025) EndedAt: 2025-10-13 21:35:36 -0000 (Mon, 13 Oct 2025) EllapsedTime: 71.0 seconds RetCode: 0 Status: OK