Package: regutools Version: 1.21.0 Command: /home/biocbuild/R/R/bin/R CMD build --keep-empty-dirs --no-resave-data regutools StartedAt: 2025-10-14 02:55:21 -0000 (Tue, 14 Oct 2025) EndedAt: 2025-10-14 02:57:15 -0000 (Tue, 14 Oct 2025) EllapsedTime: 114.1 seconds RetCode: 0 Status: OK PackageFile: regutools_1.21.0.tar.gz PackageFileSize: 388.8 KiB