Package: regioneReloaded Version: 1.12.0 Maintainer: Roberto Malinverni MaintainerEmail: roberto.malinverni at gmail.com git_url: https://git.bioconductor.org/packages/regioneReloaded git_branch: RELEASE_3_22 git_last_commit: f9a9462 git_last_commit_date: 2025-10-29 11:18:25 -0400 (Wed, 29 Oct 2025)