Package: regioneR Version: 1.41.3 Command: F:\biocbuild\bbs-3.22-bioc\R\bin\R.exe CMD check --no-multiarch --install=check:regioneR.install-out.txt --library=F:\biocbuild\bbs-3.22-bioc\R\library --no-vignettes --timings regioneR_1.41.3.tar.gz StartedAt: 2025-08-15 06:56:43 -0400 (Fri, 15 Aug 2025) EndedAt: 2025-08-15 07:19:33 -0400 (Fri, 15 Aug 2025) EllapsedTime: 1370.1 seconds RetCode: 0 Status: OK CheckDir: regioneR.Rcheck Warnings: 0