Package: regioneR Version: 1.41.3 Command: /Library/Frameworks/R.framework/Resources/bin/R CMD build --keep-empty-dirs --no-resave-data regioneR StartedAt: 2025-10-23 18:20:41 -0400 (Thu, 23 Oct 2025) EndedAt: 2025-10-23 18:22:44 -0400 (Thu, 23 Oct 2025) EllapsedTime: 122.3 seconds RetCode: 0 Status: OK PackageFile: regioneR_1.41.3.tar.gz PackageFileSize: 1.895 MiB