Package: regioneR Version: 1.41.3 Command: rm -rf regioneR.buildbin-libdir && mkdir regioneR.buildbin-libdir && /Users/biocbuild/BBS/utils/build-universal.sh regioneR_1.41.3.tar.gz /Library/Frameworks/R.framework/Resources/bin/R regioneR.buildbin-libdir StartedAt: 2025-10-24 01:52:34 -0400 (Fri, 24 Oct 2025) EndedAt: 2025-10-24 01:53:23 -0400 (Fri, 24 Oct 2025) EllapsedTime: 48.5 seconds RetCode: 0 Status: OK PackageFile: regioneR_1.41.3.tgz PackageFileSize: 1.807 MiB