Package: regionalpcs Version: 1.7.0 Command: /home/biocbuild/bbs-3.22-bioc/R/bin/R CMD INSTALL regionalpcs StartedAt: 2025-10-10 16:07:40 -0400 (Fri, 10 Oct 2025) EndedAt: 2025-10-10 16:07:42 -0400 (Fri, 10 Oct 2025) EllapsedTime: 2.0 seconds RetCode: 0 Status: OK