Package: regionalpcs Version: 1.7.0 Command: /Library/Frameworks/R.framework/Resources/bin/R CMD INSTALL regionalpcs StartedAt: 2025-10-14 15:48:54 -0400 (Tue, 14 Oct 2025) EndedAt: 2025-10-14 15:48:58 -0400 (Tue, 14 Oct 2025) EllapsedTime: 3.7 seconds RetCode: 0 Status: OK