Package: regionalpcs Version: 1.7.0 Command: /Library/Frameworks/R.framework/Resources/bin/R CMD build --keep-empty-dirs --no-resave-data regionalpcs StartedAt: 2025-10-14 18:54:53 -0400 (Tue, 14 Oct 2025) EndedAt: 2025-10-14 18:55:48 -0400 (Tue, 14 Oct 2025) EllapsedTime: 55.1 seconds RetCode: 0 Status: OK PackageFile: regionalpcs_1.7.0.tar.gz PackageFileSize: 469.8 KiB