Package: regionalpcs Version: 1.7.0 Command: rm -rf regionalpcs.buildbin-libdir && mkdir regionalpcs.buildbin-libdir && /Users/biocbuild/BBS/utils/build-universal.sh regionalpcs_1.7.0.tar.gz /Library/Frameworks/R.framework/Resources/bin/R regionalpcs.buildbin-libdir StartedAt: 2025-10-15 03:03:12 -0400 (Wed, 15 Oct 2025) EndedAt: 2025-10-15 03:03:18 -0400 (Wed, 15 Oct 2025) EllapsedTime: 5.9 seconds RetCode: 0 Status: OK PackageFile: regionalpcs_1.7.0.tgz PackageFileSize: 476.5 KiB