Package: regionalpcs Version: 1.8.0 Command: /Library/Frameworks/R.framework/Resources/bin/R CMD INSTALL regionalpcs StartedAt: 2025-10-31 15:32:53 -0400 (Fri, 31 Oct 2025) EndedAt: 2025-10-31 15:32:54 -0400 (Fri, 31 Oct 2025) EllapsedTime: 1.0 seconds RetCode: 0 Status: OK