Package: regionReport Version: 1.43.1 Command: /home/biocbuild/bbs-3.22-bioc/R/bin/R CMD INSTALL regionReport StartedAt: 2025-10-05 15:55:44 -0400 (Sun, 05 Oct 2025) EndedAt: 2025-10-05 15:56:35 -0400 (Sun, 05 Oct 2025) EllapsedTime: 50.5 seconds RetCode: 0 Status: OK