Package: regionReport Version: 1.43.1 Command: /home/biocbuild/bbs-3.22-bioc/R/bin/R CMD check --install=check:regionReport.install-out.txt --library=/home/biocbuild/bbs-3.22-bioc/R/site-library --timings regionReport_1.43.1.tar.gz StartedAt: 2025-10-06 03:29:37 -0400 (Mon, 06 Oct 2025) EndedAt: 2025-10-06 03:39:15 -0400 (Mon, 06 Oct 2025) EllapsedTime: 577.7 seconds RetCode: 0 Status: OK CheckDir: regionReport.Rcheck Warnings: 0