Package: regionReport Version: 1.43.1 Command: /home/biocbuild/bbs-3.22-bioc/R/bin/R CMD build --keep-empty-dirs --no-resave-data --md5 regionReport StartedAt: 2025-10-05 19:38:52 -0400 (Sun, 05 Oct 2025) EndedAt: 2025-10-05 19:40:00 -0400 (Sun, 05 Oct 2025) EllapsedTime: 68.0 seconds RetCode: 0 Status: OK PackageFile: regionReport_1.43.1.tar.gz PackageFileSize: 644.4 KiB