Package: recoup Version: 1.37.1 Command: /home/biocbuild/R/R/bin/R CMD INSTALL recoup StartedAt: 2025-10-20 20:59:13 -0000 (Mon, 20 Oct 2025) EndedAt: 2025-10-20 21:00:11 -0000 (Mon, 20 Oct 2025) EllapsedTime: 58.8 seconds RetCode: 0 Status: OK