Package: recoup Version: 1.37.1 Command: F:\biocbuild\bbs-3.22-bioc\R\bin\R.exe CMD INSTALL recoup StartedAt: 2025-08-14 16:36:23 -0400 (Thu, 14 Aug 2025) EndedAt: 2025-08-14 16:37:35 -0400 (Thu, 14 Aug 2025) EllapsedTime: 71.2 seconds RetCode: 0 Status: OK