Package: recoup Version: 1.37.1 Command: /home/biocbuild/bbs-3.22-bioc/R/bin/R CMD check --install=check:recoup.install-out.txt --library=/home/biocbuild/bbs-3.22-bioc/R/site-library --timings recoup_1.37.1.tar.gz StartedAt: 2025-10-21 03:41:34 -0400 (Tue, 21 Oct 2025) EndedAt: 2025-10-21 03:48:53 -0400 (Tue, 21 Oct 2025) EllapsedTime: 439.4 seconds RetCode: 0 Status: OK CheckDir: recoup.Rcheck Warnings: 0