Package: recoup Version: 1.37.1 Command: /Library/Frameworks/R.framework/Resources/bin/R CMD INSTALL recoup StartedAt: 2025-10-20 15:36:10 -0400 (Mon, 20 Oct 2025) EndedAt: 2025-10-20 15:37:13 -0400 (Mon, 20 Oct 2025) EllapsedTime: 63.0 seconds RetCode: 0 Status: OK