Package: recoup Version: 1.37.1 Command: /Library/Frameworks/R.framework/Resources/bin/R CMD build --keep-empty-dirs --no-resave-data recoup StartedAt: 2025-10-20 19:00:32 -0400 (Mon, 20 Oct 2025) EndedAt: 2025-10-20 19:02:09 -0400 (Mon, 20 Oct 2025) EllapsedTime: 97.1 seconds RetCode: 0 Status: OK PackageFile: recoup_1.37.1.tar.gz PackageFileSize: 2.252 MiB