Package: recoup Version: 1.37.1 Command: rm -rf recoup.buildbin-libdir && mkdir recoup.buildbin-libdir && /Users/biocbuild/BBS/utils/build-universal.sh recoup_1.37.1.tar.gz /Library/Frameworks/R.framework/Resources/bin/R recoup.buildbin-libdir StartedAt: 2025-10-21 03:30:41 -0400 (Tue, 21 Oct 2025) EndedAt: 2025-10-21 03:31:46 -0400 (Tue, 21 Oct 2025) EllapsedTime: 65.6 seconds RetCode: 0 Status: OK PackageFile: recoup_1.37.1.tgz PackageFileSize: 2.69 MiB