Package: recount3 Version: 1.19.3 Command: /home/biocbuild/bbs-3.22-bioc/R/bin/R CMD INSTALL recount3 StartedAt: 2025-10-20 15:31:25 -0400 (Mon, 20 Oct 2025) EndedAt: 2025-10-20 15:31:58 -0400 (Mon, 20 Oct 2025) EllapsedTime: 33.0 seconds RetCode: 0 Status: OK