Package: recount3 Version: 1.19.3 Command: /home/biocbuild/bbs-3.22-bioc/R/bin/R CMD build --keep-empty-dirs --no-resave-data --md5 recount3 StartedAt: 2025-10-20 19:29:33 -0400 (Mon, 20 Oct 2025) EndedAt: 2025-10-20 19:31:33 -0400 (Mon, 20 Oct 2025) EllapsedTime: 120.1 seconds RetCode: 0 Status: OK PackageFile: recount3_1.19.3.tar.gz PackageFileSize: 564.5 KiB