Package: recount3 Version: 1.20.0 Command: /Library/Frameworks/R.framework/Resources/bin/R CMD build --keep-empty-dirs --no-resave-data recount3 StartedAt: 2025-10-30 01:04:41 -0400 (Thu, 30 Oct 2025) EndedAt: 2025-10-30 01:07:03 -0400 (Thu, 30 Oct 2025) EllapsedTime: 141.9 seconds RetCode: 0 Status: OK PackageFile: recount3_1.20.0.tar.gz PackageFileSize: 562.1 KiB