Package: recount Version: 1.35.0 Command: rm -rf recount.buildbin-libdir && mkdir recount.buildbin-libdir && F:\biocbuild\bbs-3.22-bioc\R\bin\R.exe CMD INSTALL --build --library=recount.buildbin-libdir recount_1.35.0.tar.gz StartedAt: 2025-08-15 11:05:40 -0400 (Fri, 15 Aug 2025) EndedAt: 2025-08-15 11:07:11 -0400 (Fri, 15 Aug 2025) EllapsedTime: 90.9 seconds RetCode: 0 Status: OK PackageFile: recount_1.35.0.zip PackageFileSize: 7.24 MiB