Package: reconsi Version: 1.22.0 Command: /home/biocbuild/R/R/bin/R CMD INSTALL reconsi StartedAt: 2025-11-20 22:11:43 -0000 (Thu, 20 Nov 2025) EndedAt: 2025-11-20 22:12:11 -0000 (Thu, 20 Nov 2025) EllapsedTime: 27.6 seconds RetCode: 0 Status: OK