Package: reconsi Version: 1.22.0 Command: /home/biocbuild/R/R/bin/R CMD check --install=check:reconsi.install-out.txt --library=/home/biocbuild/R/R/site-library --no-vignettes --timings reconsi_1.22.0.tar.gz StartedAt: 2025-11-21 14:45:11 -0000 (Fri, 21 Nov 2025) EndedAt: 2025-11-21 14:49:27 -0000 (Fri, 21 Nov 2025) EllapsedTime: 255.4 seconds RetCode: 0 Status: OK CheckDir: reconsi.Rcheck Warnings: 0