Package: receptLoss Version: 1.21.0 Command: chmod a+r receptLoss -R && F:\biocbuild\bbs-3.22-bioc\R\bin\R.exe CMD build --keep-empty-dirs --no-resave-data receptLoss StartedAt: 2025-08-14 22:41:06 -0400 (Thu, 14 Aug 2025) EndedAt: 2025-08-14 22:41:44 -0400 (Thu, 14 Aug 2025) EllapsedTime: 38.2 seconds RetCode: 0 Status: OK PackageFile: receptLoss_1.21.0.tar.gz PackageFileSize: 639.5 KiB