Package: receptLoss Version: 1.21.0 Command: /Library/Frameworks/R.framework/Resources/bin/R CMD build --keep-empty-dirs --no-resave-data receptLoss StartedAt: 2025-10-03 17:27:39 -0400 (Fri, 03 Oct 2025) EndedAt: 2025-10-03 17:27:54 -0400 (Fri, 03 Oct 2025) EllapsedTime: 14.2 seconds RetCode: 0 Status: OK PackageFile: receptLoss_1.21.0.tar.gz PackageFileSize: 639.6 KiB