Package: rebook Version: 1.19.0 Command: /home/biocbuild/R/R/bin/R CMD INSTALL rebook StartedAt: 2025-10-02 20:32:18 -0000 (Thu, 02 Oct 2025) EndedAt: 2025-10-02 20:32:24 -0000 (Thu, 02 Oct 2025) EllapsedTime: 6.2 seconds RetCode: 0 Status: OK