Package: rebook Version: 1.19.0 Command: /home/biocbuild/R/R/bin/R CMD check --install=check:rebook.install-out.txt --library=/home/biocbuild/R/R/site-library --no-vignettes --timings rebook_1.19.0.tar.gz StartedAt: 2025-10-03 10:39:32 -0000 (Fri, 03 Oct 2025) EndedAt: 2025-10-03 10:41:47 -0000 (Fri, 03 Oct 2025) EllapsedTime: 135.2 seconds RetCode: 0 Status: WARNINGS CheckDir: rebook.Rcheck Warnings: 2