Package: rebook Version: 1.19.0 Command: chmod a+r rebook -R && F:\biocbuild\bbs-3.22-bioc\R\bin\R.exe CMD build --keep-empty-dirs --no-resave-data rebook StartedAt: 2025-08-14 22:41:03 -0400 (Thu, 14 Aug 2025) EndedAt: 2025-08-14 22:41:49 -0400 (Thu, 14 Aug 2025) EllapsedTime: 46.0 seconds RetCode: 0 Status: OK PackageFile: rebook_1.19.0.tar.gz PackageFileSize: 262.7 KiB