Package: rebook Version: 1.19.0 Command: rm -rf rebook.buildbin-libdir && mkdir rebook.buildbin-libdir && F:\biocbuild\bbs-3.22-bioc\R\bin\R.exe CMD INSTALL --build --library=rebook.buildbin-libdir rebook_1.19.0.tar.gz StartedAt: 2025-08-15 11:05:24 -0400 (Fri, 15 Aug 2025) EndedAt: 2025-08-15 11:05:44 -0400 (Fri, 15 Aug 2025) EllapsedTime: 20.4 seconds RetCode: 0 Status: OK PackageFile: rebook_1.19.0.zip PackageFileSize: 335.1 KiB