Package: rebook Version: 1.19.0 Command: /Library/Frameworks/R.framework/Resources/bin/R CMD check --install=check:rebook.install-out.txt --library=/Library/Frameworks/R.framework/Resources/library --no-vignettes --timings rebook_1.19.0.tar.gz StartedAt: 2025-10-20 21:33:32 -0400 (Mon, 20 Oct 2025) EndedAt: 2025-10-20 21:34:22 -0400 (Mon, 20 Oct 2025) EllapsedTime: 49.7 seconds RetCode: 0 Status: WARNINGS CheckDir: rebook.Rcheck Warnings: 2