Package: rawDiag Version: 1.5.2 Command: F:\biocbuild\bbs-3.22-bioc\R\bin\R.exe CMD check --no-multiarch --install=check:rawDiag.install-out.txt --library=F:\biocbuild\bbs-3.22-bioc\R\library --no-vignettes --timings rawDiag_1.5.2.tar.gz StartedAt: 2025-08-15 06:49:19 -0400 (Fri, 15 Aug 2025) EndedAt: 2025-08-15 06:51:59 -0400 (Fri, 15 Aug 2025) EllapsedTime: 159.8 seconds RetCode: 0 Status: OK CheckDir: rawDiag.Rcheck Warnings: 0