Package: rawDiag Version: 1.5.3 Command: /home/biocbuild/bbs-3.22-bioc/R/bin/R CMD INSTALL rawDiag StartedAt: 2025-10-21 15:11:23 -0400 (Tue, 21 Oct 2025) EndedAt: 2025-10-21 15:11:28 -0400 (Tue, 21 Oct 2025) EllapsedTime: 5.9 seconds RetCode: 0 Status: OK