Package: rawDiag Version: 1.5.3 Command: /home/biocbuild/bbs-3.22-bioc/R/bin/R CMD check --install=check:rawDiag.install-out.txt --library=/home/biocbuild/bbs-3.22-bioc/R/site-library --timings rawDiag_1.5.3.tar.gz StartedAt: 2025-10-22 03:44:47 -0400 (Wed, 22 Oct 2025) EndedAt: 2025-10-22 03:47:18 -0400 (Wed, 22 Oct 2025) EllapsedTime: 151.2 seconds RetCode: 0 Status: OK CheckDir: rawDiag.Rcheck Warnings: 0