Package: rawDiag Version: 1.5.3 Command: /Library/Frameworks/R.framework/Resources/bin/R CMD INSTALL rawDiag StartedAt: 2025-10-21 15:12:51 -0400 (Tue, 21 Oct 2025) EndedAt: 2025-10-21 15:13:15 -0400 (Tue, 21 Oct 2025) EllapsedTime: 23.9 seconds RetCode: 0 Status: OK