Package: rawDiag Version: 1.5.3 Maintainer: Christian Panse MaintainerEmail: cp at fgcz.ethz.ch git_url: https://git.bioconductor.org/packages/rawDiag git_branch: devel git_last_commit: 5470fa2 git_last_commit_date: 2025-09-10 08:40:15 -0400 (Wed, 10 Sep 2025)