Package: randRotation Version: 1.21.0 Command: /home/biocbuild/R/R/bin/R CMD INSTALL randRotation StartedAt: 2025-10-16 21:10:20 -0000 (Thu, 16 Oct 2025) EndedAt: 2025-10-16 21:10:53 -0000 (Thu, 16 Oct 2025) EllapsedTime: 32.3 seconds RetCode: 0 Status: OK