Package: randRotation Version: 1.21.0 Command: /home/biocbuild/R/R/bin/R CMD check --install=check:randRotation.install-out.txt --library=/home/biocbuild/R/R/site-library --no-vignettes --timings randRotation_1.21.0.tar.gz StartedAt: 2025-10-17 12:35:16 -0000 (Fri, 17 Oct 2025) EndedAt: 2025-10-17 12:36:06 -0000 (Fri, 17 Oct 2025) EllapsedTime: 50.1 seconds RetCode: 1 Status: ERROR CheckDir: randRotation.Rcheck Warnings: NA