Package: randRotation Version: 1.21.0 Command: /home/biocbuild/R/R/bin/R CMD build --keep-empty-dirs --no-resave-data randRotation StartedAt: 2025-10-17 03:48:54 -0000 (Fri, 17 Oct 2025) EndedAt: 2025-10-17 03:51:29 -0000 (Fri, 17 Oct 2025) EllapsedTime: 155.1 seconds RetCode: 0 Status: OK PackageFile: randRotation_1.21.0.tar.gz PackageFileSize: 962.3 KiB