Package: randRotation Version: 1.21.0 Command: F:\biocbuild\bbs-3.22-bioc\R\bin\R.exe CMD check --no-multiarch --install=check:randRotation.install-out.txt --library=F:\biocbuild\bbs-3.22-bioc\R\library --no-vignettes --timings randRotation_1.21.0.tar.gz StartedAt: 2025-08-15 06:48:37 -0400 (Fri, 15 Aug 2025) EndedAt: 2025-08-15 06:49:51 -0400 (Fri, 15 Aug 2025) EllapsedTime: 74.3 seconds RetCode: 0 Status: OK CheckDir: randRotation.Rcheck Warnings: 0