Package: randRotation Version: 1.22.0 Command: /Library/Frameworks/R.framework/Resources/bin/R CMD INSTALL randRotation StartedAt: 2025-11-03 15:10:32 -0500 (Mon, 03 Nov 2025) EndedAt: 2025-11-03 15:11:04 -0500 (Mon, 03 Nov 2025) EllapsedTime: 31.5 seconds RetCode: 0 Status: OK