Package: randRotation Version: 1.22.0 Command: rm -rf randRotation.buildbin-libdir && mkdir randRotation.buildbin-libdir && /Users/biocbuild/BBS/utils/build-universal.sh randRotation_1.22.0.tar.gz /Library/Frameworks/R.framework/Resources/bin/R randRotation.buildbin-libdir StartedAt: 2025-11-04 01:57:53 -0500 (Tue, 04 Nov 2025) EndedAt: 2025-11-04 01:58:01 -0500 (Tue, 04 Nov 2025) EllapsedTime: 8.1 seconds RetCode: 0 Status: OK PackageFile: randRotation_1.22.0.tgz PackageFileSize: 1.122 MiB