Package: randPack Version: 1.56.0 Command: rm -rf randPack.buildbin-libdir && mkdir randPack.buildbin-libdir && /Users/biocbuild/BBS/utils/build-universal.sh randPack_1.56.0.tar.gz /Library/Frameworks/R.framework/Resources/bin/R randPack.buildbin-libdir StartedAt: 2025-11-21 15:23:39 -0500 (Fri, 21 Nov 2025) EndedAt: 2025-11-21 15:23:49 -0500 (Fri, 21 Nov 2025) EllapsedTime: 10.3 seconds RetCode: 0 Status: OK PackageFile: randPack_1.56.0.tgz PackageFileSize: 461.1 KiB